BEGIN:VCALENDAR
VERSION:2.0
PRODID:-//Monika Hartl Art - ECPv6.15.20//NONSGML v1.0//EN
CALSCALE:GREGORIAN
METHOD:PUBLISH
X-ORIGINAL-URL:https://www.monikahartl.at
X-WR-CALDESC:Veranstaltungen für Monika Hartl Art
REFRESH-INTERVAL;VALUE=DURATION:PT1H
X-Robots-Tag:noindex
X-PUBLISHED-TTL:PT1H
BEGIN:VTIMEZONE
TZID:Europe/Vienna
BEGIN:DAYLIGHT
TZOFFSETFROM:+0100
TZOFFSETTO:+0200
TZNAME:CEST
DTSTART:20240331T010000
END:DAYLIGHT
BEGIN:STANDARD
TZOFFSETFROM:+0200
TZOFFSETTO:+0100
TZNAME:CET
DTSTART:20241027T010000
END:STANDARD
BEGIN:DAYLIGHT
TZOFFSETFROM:+0100
TZOFFSETTO:+0200
TZNAME:CEST
DTSTART:20250330T010000
END:DAYLIGHT
BEGIN:STANDARD
TZOFFSETFROM:+0200
TZOFFSETTO:+0100
TZNAME:CET
DTSTART:20251026T010000
END:STANDARD
BEGIN:DAYLIGHT
TZOFFSETFROM:+0100
TZOFFSETTO:+0200
TZNAME:CEST
DTSTART:20260329T010000
END:DAYLIGHT
BEGIN:STANDARD
TZOFFSETFROM:+0200
TZOFFSETTO:+0100
TZNAME:CET
DTSTART:20261025T010000
END:STANDARD
END:VTIMEZONE
BEGIN:VEVENT
DTSTART;VALUE=DATE:20251003
DTEND;VALUE=DATE:20251006
DTSTAMP:20260421T183208
CREATED:20250909T104410Z
LAST-MODIFIED:20250923T085740Z
UID:4117-1759449600-1759708799@www.monikahartl.at
SUMMARY:K Art Days 2025
DESCRIPTION:K.art Art Days 2025 \n 03– 05. Oktober 2025 \n\nThema: „SAGEN- & TRAUMWELTEN“\n📍 Kränzelhof\, Tscherms\n\nKünstler*innen: Andrea Borga\, Anna Bonell\, Bernhard Reiterer\, Brigitte Dietl\, Christian Gufler\, Daiana Man\, Evelyn Rier\, Florian Prünster\, Francesca Ragona\, Franziska Egger\, Hansjörg Oberprantacher\, Lukas Mayr\, Marlene Nussbaumer\, Marlies Baumgartner\, Monika Hartl\, Nadja Plunger\, Rebekka Frei\, Siegmund Geiser\, Simone Turra\, Vania Enderle \nProgrammübersicht \n\nOktober 2025 – Vernissage\n\n\n17:00 Uhr – Eröffnung\n\nAnsprache: Evelyn Rier\nMusikalische Begleitung\nFine Wine by Kränzelhof\n\n\n\n\n Oktober 2025 – Der Tanz und der Traum\n\n\n11:00 Uhr – Eröffnung\n\nMusikalische Begleitung: James Bach\n\n\n14:00 Uhr – Performance\n\nMarlies Baumgartner & Evelyn Rier\nVortrag Traumgeschichte & Tanzeinlage\n\n\n17:00 Uhr – Ausklang\n\n\n Oktober 2025 – Die Sage\n\n\n11:00 Uhr – Eröffnung\nAb 13:00 Uhr – Musikalische Begleitung\n\nAndreas & Marlene Acoustic Soul Pop & Oldies\n\n\n15:00 Uhr – Vortrag\n\nProf. Dr. Kindl – Die Sagen Südtirols und ihre Geschichte\nSagenlesung mit Heike Figl\n\n\n17:00 Uhr – Ausklang
URL:https://www.monikahartl.at/event/k-art-days-2025/
LOCATION:Skulpturengarten Kränzelhof\, Gampenstraße 1\, 39010 Tscherms\, 39010
END:VEVENT
BEGIN:VEVENT
DTSTART;TZID=Europe/Vienna:20251016T180000
DTEND;TZID=Europe/Vienna:20251109T200000
DTSTAMP:20260421T183208
CREATED:20250923T103958Z
LAST-MODIFIED:20251011T120520Z
UID:4150-1760637600-1762718400@www.monikahartl.at
SUMMARY:art X women
DESCRIPTION:art X women
URL:https://www.monikahartl.at/event/art-x-women/
LOCATION:Franzensfeste/Fortezza\, Brennerstraße\, Franzensfeste\, Bolzano\, 39045\, Italy
END:VEVENT
BEGIN:VEVENT
DTSTART;VALUE=DATE:20251024
DTEND;VALUE=DATE:20251031
DTSTAMP:20260421T183208
CREATED:20251028T162706Z
LAST-MODIFIED:20251028T162706Z
UID:4240-1761264000-1761868799@www.monikahartl.at
SUMMARY:METAMORPHOSE – tutto in cambio?
DESCRIPTION:Dal 24 al 30 Ottobre 2025 Medina Art Gallery Roma presenta la mostra personale di Monika Hartl “METAMORPHOSE – tutto in cambio?“ a cura di Mariacarmela Mazzeo nella gallery di Via Merulana 220. \nVom 24. bis 30. Oktober 2025 präsentiert die Medina Art Gallery Rom in ihrer Galerie in der Via Merulana 220 die von Mariacarmela Mazzeo kuratierte Einzelausstellung „METAMORPHOSE – tutto in cambio?“ von Monika Hartl. \n \n 
URL:https://www.monikahartl.at/event/metamorphose-tutto-in-cambio-2/
LOCATION:Medina Art Gallery\, Via Merulana 220\, Rom\, 00184\, Italy
END:VEVENT
END:VCALENDAR