BEGIN:VCALENDAR
VERSION:2.0
PRODID:-//Monika Hartl Art - ECPv6.15.20//NONSGML v1.0//EN
CALSCALE:GREGORIAN
METHOD:PUBLISH
X-WR-CALNAME:Monika Hartl Art
X-ORIGINAL-URL:https://www.monikahartl.at
X-WR-CALDESC:Veranstaltungen für Monika Hartl Art
REFRESH-INTERVAL;VALUE=DURATION:PT1H
X-Robots-Tag:noindex
X-PUBLISHED-TTL:PT1H
BEGIN:VTIMEZONE
TZID:Europe/Vienna
BEGIN:DAYLIGHT
TZOFFSETFROM:+0100
TZOFFSETTO:+0200
TZNAME:CEST
DTSTART:20240331T010000
END:DAYLIGHT
BEGIN:STANDARD
TZOFFSETFROM:+0200
TZOFFSETTO:+0100
TZNAME:CET
DTSTART:20241027T010000
END:STANDARD
BEGIN:DAYLIGHT
TZOFFSETFROM:+0100
TZOFFSETTO:+0200
TZNAME:CEST
DTSTART:20250330T010000
END:DAYLIGHT
BEGIN:STANDARD
TZOFFSETFROM:+0200
TZOFFSETTO:+0100
TZNAME:CET
DTSTART:20251026T010000
END:STANDARD
BEGIN:DAYLIGHT
TZOFFSETFROM:+0100
TZOFFSETTO:+0200
TZNAME:CEST
DTSTART:20260329T010000
END:DAYLIGHT
BEGIN:STANDARD
TZOFFSETFROM:+0200
TZOFFSETTO:+0100
TZNAME:CET
DTSTART:20261025T010000
END:STANDARD
END:VTIMEZONE
BEGIN:VEVENT
DTSTART;VALUE=DATE:20250518
DTEND;VALUE=DATE:20250519
DTSTAMP:20260422T025512
CREATED:20250505T135640Z
LAST-MODIFIED:20250505T135704Z
UID:3951-1747526400-1747612799@www.monikahartl.at
SUMMARY:Internationaler Museumstag
DESCRIPTION:Internationaler Museumstag \nSkulpturengarten Kränzelhof
URL:https://www.monikahartl.at/event/internationaler-museumstag/
LOCATION:Skulpturengarten Kränzelhof\, Gampenstraße 1\, 39010 Tscherms\, 39010
END:VEVENT
END:VCALENDAR