BEGIN:VCALENDAR
VERSION:2.0
PRODID:-//Monika Hartl Art - ECPv6.15.20//NONSGML v1.0//EN
CALSCALE:GREGORIAN
METHOD:PUBLISH
X-WR-CALNAME:Monika Hartl Art
X-ORIGINAL-URL:https://www.monikahartl.at
X-WR-CALDESC:Veranstaltungen für Monika Hartl Art
REFRESH-INTERVAL;VALUE=DURATION:PT1H
X-Robots-Tag:noindex
X-PUBLISHED-TTL:PT1H
BEGIN:VTIMEZONE
TZID:Europe/Vienna
BEGIN:DAYLIGHT
TZOFFSETFROM:+0100
TZOFFSETTO:+0200
TZNAME:CEST
DTSTART:20240331T010000
END:DAYLIGHT
BEGIN:STANDARD
TZOFFSETFROM:+0200
TZOFFSETTO:+0100
TZNAME:CET
DTSTART:20241027T010000
END:STANDARD
BEGIN:DAYLIGHT
TZOFFSETFROM:+0100
TZOFFSETTO:+0200
TZNAME:CEST
DTSTART:20250330T010000
END:DAYLIGHT
BEGIN:STANDARD
TZOFFSETFROM:+0200
TZOFFSETTO:+0100
TZNAME:CET
DTSTART:20251026T010000
END:STANDARD
BEGIN:DAYLIGHT
TZOFFSETFROM:+0100
TZOFFSETTO:+0200
TZNAME:CEST
DTSTART:20260329T010000
END:DAYLIGHT
BEGIN:STANDARD
TZOFFSETFROM:+0200
TZOFFSETTO:+0100
TZNAME:CET
DTSTART:20261025T010000
END:STANDARD
END:VTIMEZONE
BEGIN:VEVENT
DTSTART;TZID=Europe/Vienna:20250904T180000
DTEND;TZID=Europe/Vienna:20250904T210000
DTSTAMP:20260421T214609
CREATED:20250821T133251Z
LAST-MODIFIED:20250821T133251Z
UID:4082-1757008800-1757019600@www.monikahartl.at
SUMMARY:Finissage ZEICHEN DER VERÄNDERUNG
DESCRIPTION:Finissage der Ausstellung ZEICHEN DER VERÄNDERUNG \n4. September 2025 um 18.00 Uhr
URL:https://www.monikahartl.at/event/finissage-zeichen-der-veraenderung/
LOCATION:Viste Immobilien Sigrun Kogler\, Hubert-Sattler-Gasse 8\, Salzburg\, Salzburg\, 5020\, Austria
END:VEVENT
END:VCALENDAR