BEGIN:VCALENDAR
VERSION:2.0
PRODID:-//Monika Hartl Art - ECPv6.15.20//NONSGML v1.0//EN
CALSCALE:GREGORIAN
METHOD:PUBLISH
X-WR-CALNAME:Monika Hartl Art
X-ORIGINAL-URL:https://www.monikahartl.at
X-WR-CALDESC:Veranstaltungen für Monika Hartl Art
REFRESH-INTERVAL;VALUE=DURATION:PT1H
X-Robots-Tag:noindex
X-PUBLISHED-TTL:PT1H
BEGIN:VTIMEZONE
TZID:Europe/Vienna
BEGIN:DAYLIGHT
TZOFFSETFROM:+0100
TZOFFSETTO:+0200
TZNAME:CEST
DTSTART:20240331T010000
END:DAYLIGHT
BEGIN:STANDARD
TZOFFSETFROM:+0200
TZOFFSETTO:+0100
TZNAME:CET
DTSTART:20241027T010000
END:STANDARD
BEGIN:DAYLIGHT
TZOFFSETFROM:+0100
TZOFFSETTO:+0200
TZNAME:CEST
DTSTART:20250330T010000
END:DAYLIGHT
BEGIN:STANDARD
TZOFFSETFROM:+0200
TZOFFSETTO:+0100
TZNAME:CET
DTSTART:20251026T010000
END:STANDARD
BEGIN:DAYLIGHT
TZOFFSETFROM:+0100
TZOFFSETTO:+0200
TZNAME:CEST
DTSTART:20260329T010000
END:DAYLIGHT
BEGIN:STANDARD
TZOFFSETFROM:+0200
TZOFFSETTO:+0100
TZNAME:CET
DTSTART:20261025T010000
END:STANDARD
END:VTIMEZONE
BEGIN:VEVENT
DTSTART;TZID=Europe/Vienna:20250614T180000
DTEND;TZID=Europe/Vienna:20250628T210000
DTSTAMP:20260422T025419
CREATED:20250416T153155Z
LAST-MODIFIED:20250520T083824Z
UID:3943-1749924000-1751144400@www.monikahartl.at
SUMMARY:6^ Biennale di Genova
DESCRIPTION:6^ Biennale di Genova
URL:https://www.monikahartl.at/event/6-biennale-di-genova/
LOCATION:SATURA Palazzo Stella\, Piazza Stella 5/1\, 16123 Genova\, 16123\, Italien
END:VEVENT
END:VCALENDAR