BEGIN:VCALENDAR
VERSION:2.0
PRODID:-//Monika Hartl Art - ECPv6.15.20//NONSGML v1.0//EN
CALSCALE:GREGORIAN
METHOD:PUBLISH
X-ORIGINAL-URL:https://www.monikahartl.at
X-WR-CALDESC:Veranstaltungen für Monika Hartl Art
REFRESH-INTERVAL;VALUE=DURATION:PT1H
X-Robots-Tag:noindex
X-PUBLISHED-TTL:PT1H
BEGIN:VTIMEZONE
TZID:Europe/Vienna
BEGIN:DAYLIGHT
TZOFFSETFROM:+0100
TZOFFSETTO:+0200
TZNAME:CEST
DTSTART:20240331T010000
END:DAYLIGHT
BEGIN:STANDARD
TZOFFSETFROM:+0200
TZOFFSETTO:+0100
TZNAME:CET
DTSTART:20241027T010000
END:STANDARD
BEGIN:DAYLIGHT
TZOFFSETFROM:+0100
TZOFFSETTO:+0200
TZNAME:CEST
DTSTART:20250330T010000
END:DAYLIGHT
BEGIN:STANDARD
TZOFFSETFROM:+0200
TZOFFSETTO:+0100
TZNAME:CET
DTSTART:20251026T010000
END:STANDARD
BEGIN:DAYLIGHT
TZOFFSETFROM:+0100
TZOFFSETTO:+0200
TZNAME:CEST
DTSTART:20260329T010000
END:DAYLIGHT
BEGIN:STANDARD
TZOFFSETFROM:+0200
TZOFFSETTO:+0100
TZNAME:CET
DTSTART:20261025T010000
END:STANDARD
END:VTIMEZONE
BEGIN:VEVENT
DTSTART;TZID=Europe/Vienna:20250606T143000
DTEND;TZID=Europe/Vienna:20250616T193000
DTSTAMP:20260422T041646
CREATED:20250514T133721Z
LAST-MODIFIED:20250514T133741Z
UID:3961-1749220200-1750102200@www.monikahartl.at
SUMMARY:OPERA con VISTA
DESCRIPTION:“OPERA CON VISTA” – Contemporary Art Exhibition\ncurated by Stefania Pieralice\nDiocesan and Chapter Museum (Museo Diocesano e Capitolare) of Terni\nXI Febbraio 4\, Terni\nExhibition open from June 6 to 16; free admission daily from 2:30 PM to 7:30 PM\n(Closed on Sunday\, June 15)\nOpening presentation: Saturday\, June 7\, at 4:30 PM
URL:https://www.monikahartl.at/event/opera-con-vista/
LOCATION:Diocesan and Chapter Museum (Museo Diocesano e Capitolare) of Terni\, Via Undici Febbraio 4\, Terni\, 05100\, Italy
END:VEVENT
END:VCALENDAR